BEGIN:VCALENDAR
VERSION:2.0
PRODID:-//Rödelheimer Vereinsring - ECPv6.15.20//NONSGML v1.0//EN
CALSCALE:GREGORIAN
METHOD:PUBLISH
X-ORIGINAL-URL:https://roedelheimer-vereinsring.de
X-WR-CALDESC:Veranstaltungen für Rödelheimer Vereinsring
REFRESH-INTERVAL;VALUE=DURATION:PT1H
X-Robots-Tag:noindex
X-PUBLISHED-TTL:PT1H
BEGIN:VTIMEZONE
TZID:Europe/Helsinki
BEGIN:DAYLIGHT
TZOFFSETFROM:+0200
TZOFFSETTO:+0300
TZNAME:EEST
DTSTART:20220327T010000
END:DAYLIGHT
BEGIN:STANDARD
TZOFFSETFROM:+0300
TZOFFSETTO:+0200
TZNAME:EET
DTSTART:20221030T010000
END:STANDARD
BEGIN:DAYLIGHT
TZOFFSETFROM:+0200
TZOFFSETTO:+0300
TZNAME:EEST
DTSTART:20230326T010000
END:DAYLIGHT
BEGIN:STANDARD
TZOFFSETFROM:+0300
TZOFFSETTO:+0200
TZNAME:EET
DTSTART:20231029T010000
END:STANDARD
BEGIN:DAYLIGHT
TZOFFSETFROM:+0200
TZOFFSETTO:+0300
TZNAME:EEST
DTSTART:20240331T010000
END:DAYLIGHT
BEGIN:STANDARD
TZOFFSETFROM:+0300
TZOFFSETTO:+0200
TZNAME:EET
DTSTART:20241027T010000
END:STANDARD
END:VTIMEZONE
BEGIN:VEVENT
DTSTART;TZID=Europe/Helsinki:20230430T190000
DTEND;TZID=Europe/Helsinki:20230430T190000
DTSTAMP:20260420T221533
CREATED:20230116T180356Z
LAST-MODIFIED:20230116T180356Z
UID:798-1682881200-1682881200@roedelheimer-vereinsring.de
SUMMARY:tanz in den Mai mit Disco Tanz
DESCRIPTION:
URL:https://roedelheimer-vereinsring.de/event/tanz-in-den-mai-mit-disco-tanz/
LOCATION:Rödelheimer Vereinsringhaus\, Friedel-Schomann-Weg 7\, Frankfurt\, 60489
END:VEVENT
END:VCALENDAR