BEGIN:VCALENDAR
VERSION:2.0
PRODID:-//Rödelheimer Vereinsring - ECPv6.15.20//NONSGML v1.0//EN
CALSCALE:GREGORIAN
METHOD:PUBLISH
X-WR-CALNAME:Rödelheimer Vereinsring
X-ORIGINAL-URL:https://roedelheimer-vereinsring.de
X-WR-CALDESC:Veranstaltungen für Rödelheimer Vereinsring
REFRESH-INTERVAL;VALUE=DURATION:PT1H
X-Robots-Tag:noindex
X-PUBLISHED-TTL:PT1H
BEGIN:VTIMEZONE
TZID:Europe/Helsinki
BEGIN:DAYLIGHT
TZOFFSETFROM:+0200
TZOFFSETTO:+0300
TZNAME:EEST
DTSTART:20220327T010000
END:DAYLIGHT
BEGIN:STANDARD
TZOFFSETFROM:+0300
TZOFFSETTO:+0200
TZNAME:EET
DTSTART:20221030T010000
END:STANDARD
BEGIN:DAYLIGHT
TZOFFSETFROM:+0200
TZOFFSETTO:+0300
TZNAME:EEST
DTSTART:20230326T010000
END:DAYLIGHT
BEGIN:STANDARD
TZOFFSETFROM:+0300
TZOFFSETTO:+0200
TZNAME:EET
DTSTART:20231029T010000
END:STANDARD
BEGIN:DAYLIGHT
TZOFFSETFROM:+0200
TZOFFSETTO:+0300
TZNAME:EEST
DTSTART:20240331T010000
END:DAYLIGHT
BEGIN:STANDARD
TZOFFSETFROM:+0300
TZOFFSETTO:+0200
TZNAME:EET
DTSTART:20241027T010000
END:STANDARD
END:VTIMEZONE
BEGIN:VEVENT
DTSTART;TZID=Europe/Helsinki:20230714T200000
DTEND;TZID=Europe/Helsinki:20230714T200000
DTSTAMP:20260420T170529
CREATED:20230116T050317Z
LAST-MODIFIED:20230116T050317Z
UID:792-1689364800-1689364800@roedelheimer-vereinsring.de
SUMMARY:Jazz
DESCRIPTION:Blues Office
URL:https://roedelheimer-vereinsring.de/event/jazz-7/
LOCATION:Rödelheimer Vereinsringhaus\, Friedel-Schomann-Weg 7\, Frankfurt\, 60489
CATEGORIES:Jazz
END:VEVENT
END:VCALENDAR