BEGIN:VCALENDAR
VERSION:2.0
PRODID:-//Rödelheimer Vereinsring - ECPv6.15.20//NONSGML v1.0//EN
CALSCALE:GREGORIAN
METHOD:PUBLISH
X-WR-CALNAME:Rödelheimer Vereinsring
X-ORIGINAL-URL:https://roedelheimer-vereinsring.de
X-WR-CALDESC:Veranstaltungen für Rödelheimer Vereinsring
REFRESH-INTERVAL;VALUE=DURATION:PT1H
X-Robots-Tag:noindex
X-PUBLISHED-TTL:PT1H
BEGIN:VTIMEZONE
TZID:Europe/Helsinki
BEGIN:DAYLIGHT
TZOFFSETFROM:+0200
TZOFFSETTO:+0300
TZNAME:EEST
DTSTART:20220327T010000
END:DAYLIGHT
BEGIN:STANDARD
TZOFFSETFROM:+0300
TZOFFSETTO:+0200
TZNAME:EET
DTSTART:20221030T010000
END:STANDARD
BEGIN:DAYLIGHT
TZOFFSETFROM:+0200
TZOFFSETTO:+0300
TZNAME:EEST
DTSTART:20230326T010000
END:DAYLIGHT
BEGIN:STANDARD
TZOFFSETFROM:+0300
TZOFFSETTO:+0200
TZNAME:EET
DTSTART:20231029T010000
END:STANDARD
BEGIN:DAYLIGHT
TZOFFSETFROM:+0200
TZOFFSETTO:+0300
TZNAME:EEST
DTSTART:20240331T010000
END:DAYLIGHT
BEGIN:STANDARD
TZOFFSETFROM:+0300
TZOFFSETTO:+0200
TZNAME:EET
DTSTART:20241027T010000
END:STANDARD
END:VTIMEZONE
BEGIN:VEVENT
DTSTART;TZID=Europe/Helsinki:20230811T200000
DTEND;TZID=Europe/Helsinki:20230811T200000
DTSTAMP:20260420T154705
CREATED:20230116T050354Z
LAST-MODIFIED:20230725T192922Z
UID:794-1691784000-1691784000@roedelheimer-vereinsring.de
SUMMARY:Jazz ist back
DESCRIPTION:M.M. Häder \nÄND THE ELEMENTS OF BLUES \n„Manfred Häder ist nach wie vor einer der fähigsten Blues-Gitarristen Europas“ (Frankfurter Rundschau) und sein Auftritt der absolute Höhepunkt unserer Veranstaltungsreihe! \nSein markanter Gitarrenton ist voller Tiefe\, Intensität und Leidenschaft und hat sofortigen Wiedererkennungswert. Seine Musik basiert auf einem soliden Fundament aus Blues-Feeling und langjähriger Erfahrung\, mit Einflüssen aus der „musikalischen Moderne“. Zahlreiche seiner Texte sind deutsch. \nManfred Häder gründete 1976 die Frankfurt City Blues Band und blieb viele Jahre Mitglied. Er ist nicht nur ein herausragender Solist\, sondern auch ein einfühlsamer Begleiter. Dies konnte er im Zusammenspiel mit Alexis Korner\, Louisiana Red\, Katie Webster\, Phillip Walker u.a. unter Beweis stellen.  \nBereits fünfmal wurde er zum renommiertesten deutschen Bluesfestival in Lahnstein eingeladen. So auch im Jahr 2000 zum 20jährigen Festival-Jubiläum. Die „Manfred Häder Bänd“ trat dabei als einzige deutsche Band des Festivals neben den Formationen von Jimmy Johnson und Tay Mahal auf.
URL:https://roedelheimer-vereinsring.de/event/jazz-8/
LOCATION:Rödelheimer Vereinsringhaus\, Friedel-Schomann-Weg 7\, Frankfurt\, 60489
CATEGORIES:Jazz
END:VEVENT
END:VCALENDAR