BEGIN:VCALENDAR
VERSION:2.0
PRODID:-//Rödelheimer Vereinsring - ECPv6.15.20//NONSGML v1.0//EN
CALSCALE:GREGORIAN
METHOD:PUBLISH
X-ORIGINAL-URL:https://roedelheimer-vereinsring.de
X-WR-CALDESC:Veranstaltungen für Rödelheimer Vereinsring
REFRESH-INTERVAL;VALUE=DURATION:PT1H
X-Robots-Tag:noindex
X-PUBLISHED-TTL:PT1H
BEGIN:VTIMEZONE
TZID:Europe/Helsinki
BEGIN:DAYLIGHT
TZOFFSETFROM:+0200
TZOFFSETTO:+0300
TZNAME:EEST
DTSTART:20220327T010000
END:DAYLIGHT
BEGIN:STANDARD
TZOFFSETFROM:+0300
TZOFFSETTO:+0200
TZNAME:EET
DTSTART:20221030T010000
END:STANDARD
BEGIN:DAYLIGHT
TZOFFSETFROM:+0200
TZOFFSETTO:+0300
TZNAME:EEST
DTSTART:20230326T010000
END:DAYLIGHT
BEGIN:STANDARD
TZOFFSETFROM:+0300
TZOFFSETTO:+0200
TZNAME:EET
DTSTART:20231029T010000
END:STANDARD
BEGIN:DAYLIGHT
TZOFFSETFROM:+0200
TZOFFSETTO:+0300
TZNAME:EEST
DTSTART:20240331T010000
END:DAYLIGHT
BEGIN:STANDARD
TZOFFSETFROM:+0300
TZOFFSETTO:+0200
TZNAME:EET
DTSTART:20241027T010000
END:STANDARD
END:VTIMEZONE
BEGIN:VEVENT
DTSTART;TZID=Europe/Helsinki:20230203T190000
DTEND;TZID=Europe/Helsinki:20230203T190000
DTSTAMP:20260420T234831
CREATED:20230125T053623Z
LAST-MODIFIED:20230125T053623Z
UID:801-1675450800-1675450800@roedelheimer-vereinsring.de
SUMMARY:Die Wahrheit vor der Wahl: Wer kommt in den Römer
DESCRIPTION:Am 5. März wird unser neuer Oberbürgermeister oder eine Oberbürgermeisterin gewählt werden. Die Rödelheimer Bürgerinnen und Bürger haben die Möglichkeit\, die wichtigsten Kandidat:innen im direkten Gespräch kennenzulernen: Die Rödelheimer Runde lädt ein zu zwei Veranstaltungen unter dem Titel\n„Wer kommt in den Römer?“ \nAm Freitag\, dem 3. Februar\, ab 19 Uhr erwarten wir Uwe Becker (CDU)\, Mike Josef (SPD) und Dr. Manuela Rottmann (Grüne) zum Stammtischgespräch im Rödelheimer Vereinsring. \nAm Freitag\, dem 10. Februar\, ab 19 Uhr stellen sich\, ebenfalls im Vereinsringhaus\, Dr. Daniela Mehler-Würzbach (Linke) und Yanki Pürsün (FDP) Ihren Fragen. \nDie Rödelheimer Bürgerinnen und Bürger können an diesen beiden Abenden im Vereinsringhaus\, Friedel-Schomann-Weg 7\, den Kandidat:innen alle Fragen stellen und wie an einem Stammtisch mit ihnen diskutieren. Geleitet werden die Gespräche von Mitgliedern der Rödelheimer Runde. \nDie Wahrheit vor einer Wahl zu erfahren – mit dieser Zielsetzung hat die Rödelheimer Runde seit 25 Jahren Politiker vor wichtigen Wahlen zur Diskussion mit den Bürgern ins Vereinsringhaus Rödelheim eingeladen. Die „Rödelheimer Runde“ ist ein Zusammenschluss politisch engagierter Rödelheimerinnen und Rödelheimer unter dem Dach des Vereinsrings Rödelheim. Zu ihr zählen das ehrenamtliche Magistratsmitglied Margarete Wiemer\, der stellvertretende Vereinsringvorsitzende Reinhard Pietsch\, VdK-Vorsitzender Dr. Eberhard Pausch und das ehem. langjährige Ortbeiratsmitglied Claus David. \nWir freuen uns auf zwei spannende und informative Abende im Vereinsringhaus!
URL:https://roedelheimer-vereinsring.de/event/die-wahrheit-vor-der-wahl-wer-kommt-in-den-roemer/
LOCATION:Rödelheimer Vereinsringhaus\, Friedel-Schomann-Weg 7\, Frankfurt\, 60489
END:VEVENT
BEGIN:VEVENT
DTSTART;TZID=Europe/Helsinki:20230210T190000
DTEND;TZID=Europe/Helsinki:20230210T190000
DTSTAMP:20260420T234831
CREATED:20230125T060830Z
LAST-MODIFIED:20230125T060830Z
UID:803-1676055600-1676055600@roedelheimer-vereinsring.de
SUMMARY:Die Wahrheit vor der Wahl: Wer kommt in den Römer?
DESCRIPTION:Am 5. März wird unser neuer Oberbürgermeister oder eine Oberbürgermeisterin gewählt werden. Die Rödelheimer Bürgerinnen und Bürger haben die Möglichkeit\, die wichtigsten Kandidat:innen im direkten Gespräch kennenzulernen: Die Rödelheimer Runde lädt ein zu zwei Veranstaltungen unter dem Titel\n„Wer kommt in den Römer?“ \nAm Freitag\, dem 3. Februar\, ab 19 Uhr erwarten wir Uwe Becker (CDU)\, Mike Josef (SPD) und Dr. Manuela Rottmann (Grüne) zum Stammtischgespräch im Rödelheimer Vereinsring. \nAm Freitag\, dem 10. Februar\, ab 19 Uhr stellen sich\, ebenfalls im Vereinsringhaus\, Dr. Daniela Mehler-Würzbach (Linke) und Yanki Pürsün (FDP) Ihren Fragen. \nDie Rödelheimer Bürgerinnen und Bürger können an diesen beiden Abenden im Vereinsringhaus\, Friedel-Schomann-Weg 7\, den Kandidat:innen alle Fragen stellen und wie an einem Stammtisch mit ihnen diskutieren. Geleitet werden die Gespräche von Mitgliedern der Rödelheimer Runde. \nDie Wahrheit vor einer Wahl zu erfahren – mit dieser Zielsetzung hat die Rödelheimer Runde seit 25 Jahren Politiker vor wichtigen Wahlen zur Diskussion mit den Bürgern ins Vereinsringhaus Rödelheim eingeladen. Die „Rödelheimer Runde“ ist ein Zusammenschluss politisch engagierter Rödelheimerinnen und Rödelheimer unter dem Dach des Vereinsrings Rödelheim. Zu ihr zählen das ehrenamtliche Magistratsmitglied Margarete Wiemer\, der stellvertretende Vereinsringvorsitzende Reinhard Pietsch\, VdK-Vorsitzender Dr. Eberhard Pausch und das ehem. langjährige Ortbeiratsmitglied Claus David. \nWir freuen uns auf zwei spannende und informative Abende im Vereinsringhaus!
URL:https://roedelheimer-vereinsring.de/event/die-wahrheit-vor-der-wahl-wer-kommt-in-den-roemer-2/
LOCATION:Rödelheimer Vereinsringhaus\, Friedel-Schomann-Weg 7\, Frankfurt\, 60489
END:VEVENT
BEGIN:VEVENT
DTSTART;TZID=Europe/Helsinki:20230226T110000
DTEND;TZID=Europe/Helsinki:20230226T110000
DTSTAMP:20260420T234831
CREATED:20230116T045244Z
LAST-MODIFIED:20230222T170840Z
UID:774-1677409200-1677409200@roedelheimer-vereinsring.de
SUMMARY:Jazz - Frühschoppen mit Swingstars
DESCRIPTION:SWINGSTARS \nDixieland und Swing seit 1947 \nDie Swingstars dürften heute die älteste Jazzband in Frankfurt am Main und Umgebung sein; denn seit 1947 besteht die Band unter ihrer „Firmenbezeichnung“. \nIn ihrer langjährigen Tradition spielte die Band in vielen Jazzlokalen – einschließlich des Domicile du Jazz in Frankfurt\, auf Riverboat-shuffles sowie auf vielen öffentlichen und privaten Veranstaltungen. \nNeben zahlreichen Auftritten im Inland nahm sie auch auf internationalen Veranstaltungen teil. Zuletzt im Jahr 2008 auf dem internationalen Jazzfest in Bansko\, Bulgarien. \nNostalgie und sicherlich eine Portion Dixieland- bzw. Swing-Revival haben dazu beigetragen\, dass die Band einen beachtlichen Zuhörerkreis als ihr Stammpublikum bezeichnen kann. \nDie Besetzung der Band :  \nGina Hettrich (Gesang)\, Gerhard Joos (Trompete und Flügelhorn)\, Detlef Mühleck (Klarinette und Saxophon)\, Wilfried Jüterbock (Klavier)\, Rudi Bläsing (Bass)\, Reinhard Kuckert (Schlagzeug und Gesang). \n. \nUnsere weiteren Spieltermine: \nImmer sonntags um 11.00 Uhr \n26. März Viola Engelbrecht \n21. Mai Hengstbach Jazz Crew \n\nImmer im Rödelheimer Vereinsringhaus – \nFriedel-Schomann-Weg 7 \, 60489 Frankfurt-Rödelheim \nDer Eintritt ist frei\, es geht ein Hut um. \nWir hoffen auf viele Musikfreunde
URL:https://roedelheimer-vereinsring.de/event/jazz-fruehschoppen/
LOCATION:Rödelheimer Vereinsringhaus\, Friedel-Schomann-Weg 7\, Frankfurt\, 60489
CATEGORIES:Jazz
END:VEVENT
END:VCALENDAR